BEGIN:VCALENDAR
VERSION:2.0
PRODID:-//eventon.com NONSGML v1.0//EN
CALSCALE:GREGORIAN
METHOD:PUBLISH
BEGIN:VEVENT
UID:69eb84240bb62
DTSTAMP:20260424T145428Z
DTSTART:20250301T180000Z
DTEND:20250301T200000Z
LOCATION:
SUMMARY:Spökvandring
DESCRIPTION:kl.19 Spökvandring. Boka plats här.\nhttps://astraken.se/ev
 ents/spokvandring-3/
URL:https://astraken.se/events/spokvandring-3/
END:VEVENT
END:VCALENDAR