BEGIN:VCALENDAR
VERSION:2.0
PRODID:-//eventon.com NONSGML v1.0//EN
CALSCALE:GREGORIAN
METHOD:PUBLISH
BEGIN:VEVENT
UID:69eb8947bad16
DTSTAMP:20260424T151623Z
DTSTART:20250412T160000Z
DTEND:20250412T190000Z
LOCATION:Salsta Slott Lena Salsta 63\,  Vattholma
SUMMARY:Renässans för Middag och dans som på 1500-talet
DESCRIPTION:kl.18 Renässans för Middag och dans som på 1500-talet. Gör
  som historieätarna – testa 1500-talets mat. Men till skillnad mot i tv-
 programmet bjuds på dåtidens läckerheter\,  inte på mat som med dagens 
 mått har passerat bäst-före-datum… Efter middagen ges möjlighet att t
 esta dåtidens danser under ledning av Annika Windahl och dansgruppen Bran
 icula.[..]\nhttps://astraken.se/events/renassans-for-middag-och-dans-som-pa
 -1500-talet/
URL:https://astraken.se/events/renassans-for-middag-och-dans-som-pa-1500-talet/
END:VEVENT
END:VCALENDAR