BEGIN:VCALENDAR
VERSION:2.0
PRODID:-//eventon.com NONSGML v1.0//EN
CALSCALE:GREGORIAN
METHOD:PUBLISH
BEGIN:VEVENT
UID:69eba1d2a48e6
DTSTAMP:20260424T170106Z
DTSTART:20250322T170000Z
DTEND:20250322T200000Z
LOCATION:Salsta Slott Lena Salsta 63\,  Vattholma
SUMMARY:Middag med mordgåta - mordet på Per Brahe
DESCRIPTION:kl.18 Middag med mordgåta – mordet på Per Brahe. Pris 760kr
 /person. Boka plats på info@salsta-slott.se\nhttps://astraken.se/events/mi
 ddag-med-mordgata-mordet-pa-per-brahe/
URL:https://astraken.se/events/middag-med-mordgata-mordet-pa-per-brahe/
END:VEVENT
END:VCALENDAR