BEGIN:VCALENDAR
VERSION:2.0
PRODID:-//eventon.com NONSGML v1.0//EN
CALSCALE:GREGORIAN
METHOD:PUBLISH
BEGIN:VEVENT
UID:69eb88fecbf95
DTSTAMP:20260424T151510Z
DTSTART:20250222T110000Z
DTEND:20250222T200000Z
LOCATION:Salsta Slott Lena Salsta 63\,  Vattholma
SUMMARY:Sportlovskul pÃ¥ Salsta
DESCRIPTION:kl.12Â Barnvisning av slottet.Â 30 minuters guidad upptÃ¤cktsfÃ
 ¤rd genom slottet. Se var slottets barn sedan 1800-talet har mÃ¤tt hur lÃ¥n
 ga de Ã¤r. Pris 60kr/person. Boka plats pÃ¥ info@salsta-slott.se kl.13Â FÃ¶
 rrÃ¤darna.Â (Fullbokad) kl.19Â Det spÃ¶kar pÃ¥ Salsta. Pris 60kr fÃ¶r barn 
 t o m 7 Ã¥r och 160kr fÃ¶r Ã¤ldre. Boka plats pÃ¥ info@salsta-slott.se\nhtt
 ps://astraken.se/events/sportlovskul-pa-salsta/
URL:https://astraken.se/events/sportlovskul-pa-salsta/
END:VEVENT
END:VCALENDAR