BEGIN:VCALENDAR
VERSION:2.0
PRODID:-//eventon.com NONSGML v1.0//EN
CALSCALE:GREGORIAN
METHOD:PUBLISH
BEGIN:VEVENT
UID:69eb88e791adc
DTSTAMP:20260424T151447Z
DTSTART:20250418T090000Z
DTEND:20250418T140000Z
LOCATION:Salsta Slott Lena Salsta 63\,  Vattholma
SUMMARY:Konst på väg
DESCRIPTION:Konst på väg Biljettpris 80kr. Ingen förbokning behövs.\nh
 ttps://astraken.se/events/konst-pa-vag-3/
URL:https://astraken.se/events/konst-pa-vag-3/
END:VEVENT
END:VCALENDAR