BEGIN:VCALENDAR
VERSION:2.0
PRODID:-//eventon.com NONSGML v1.0//EN
CALSCALE:GREGORIAN
METHOD:PUBLISH
BEGIN:VEVENT
UID:69eb9dd22e731
DTSTAMP:20260424T164402Z
DTSTART:20250329
DTEND:20250330
LOCATION:Salsta Slott Lena Salsta 63\,  Vattholma
SUMMARY:Nostalgidisco
DESCRIPTION:NostalgidiscoÂ â€“ dansa till musiken frÃ¥n 1960- och 1970-tale
 t\,  en tid nÃ¤r poolpartyn och fester prÃ¤glade Salsta. Kl.18 slÃ¥r portar
 na upp till en tidstypiskt buffÃ©\,  och efter maten kan du Ã¥teruppliva di
 scodanserna och tryckarna frÃ¥n fÃ¶rr\,  med Lars Englund som DJ. OcksÃ¥ mÃ
 ¶jligt fÃ¶r den som vill komma direkt till dansen\, [..]\nhttps://astraken.
 se/events/nostalgidisco/
URL:https://astraken.se/events/nostalgidisco/
END:VEVENT
END:VCALENDAR