BEGIN:VCALENDAR
VERSION:2.0
PRODID:-//eventon.com NONSGML v1.0//EN
CALSCALE:GREGORIAN
METHOD:PUBLISH
BEGIN:VEVENT
UID:69eb8693e898f
DTSTAMP:20260424T150451Z
DTSTART:20241126T173000Z
DTEND:20241126T190000Z
LOCATION:
SUMMARY:Kranskurs
DESCRIPTION:Kranskurs 26/11 tillsammans med Centrumblommor Storvreta. Varmt
  välkommen till en stämningsfull kväll på Salsta slott där du får ska
 pa din egen unika julkrans! Under Sandras kunniga vägledning får du allt 
 material och stöd du behöver\,  oavsett om du är nybörjare eller har ti
 digare erfarenhet. Njut av alkoholfritt bubbel och utsökta[..]\nhttps://as
 traken.se/events/kranskurs/
URL:https://astraken.se/events/kranskurs/
END:VEVENT
END:VCALENDAR