BEGIN:VCALENDAR
VERSION:2.0
PRODID:-//eventon.com NONSGML v1.0//EN
CALSCALE:GREGORIAN
METHOD:PUBLISH
BEGIN:VEVENT
UID:69eb9dd5b9b62
DTSTAMP:20260424T164405Z
DTSTART:20241130
DTEND:20241201
LOCATION:
SUMMARY:Julbord på Salsta
DESCRIPTION:Julbord: 30/12\,  4/12\,  6/12\,  7/12\,  14/12 Ge dig själv\,
   dina anställda eller dina nära och kära en extraordinär julupplevelse
  på ett slott som andas historia och elegans. Njut av den varma atmosfäre
 n och låt dig förföras av de vackert juldekorerade salongerna medan vår
 a skickliga kockar förbereder en oförglömlig matupplevelse. Smaka[..]\nh
 ttps://astraken.se/events/julbord-pa-salsta/
URL:https://astraken.se/events/julbord-pa-salsta/
END:VEVENT
END:VCALENDAR