BEGIN:VCALENDAR
VERSION:2.0
PRODID:-//eventon.com NONSGML v1.0//EN
CALSCALE:GREGORIAN
METHOD:PUBLISH
BEGIN:VEVENT
UID:69eb88e2879e7
DTSTAMP:20260424T151442Z
DTSTART:20241019T160000Z
DTEND:20241019T215000Z
LOCATION:Salsta Slott Lena Salsta 63\,  Vattholma
SUMMARY:Magi pÃ¥ Salsta eller Middag med andarna
DESCRIPTION:I vÃ¤ntan pÃ¥ slutet pÃ¥ oktober och alla Halloweenfester kan d
 u ladda upp med hÃ¶stens fÃ¶rsta spÃ¶kaktiga event\,  antingen som en trerÃ
 ¤tters middag med underhÃ¥llning + fÃ¶restÃ¤llning eller enbart fÃ¶restÃ¤ll
 ning. Per Johan RÃ¥smark utmanar dina sinnen i en seans-inspirerad fÃ¶restÃ
 ¤llning som fÃ¥r dig att undra hur vÃ¤rlden verkligen fungerar och[..]\nhtt
 ps://astraken.se/events/magi-pa-salsta-eller-middag-med-andarna/
URL:https://astraken.se/events/magi-pa-salsta-eller-middag-med-andarna/
END:VEVENT
END:VCALENDAR