BEGIN:VCALENDAR
VERSION:2.0
PRODID:-//eventon.com NONSGML v1.0//EN
CALSCALE:GREGORIAN
METHOD:PUBLISH
BEGIN:VEVENT
UID:69eb89368185c
DTSTAMP:20260424T151606Z
DTSTART:20240817T120000Z
DTEND:20240817T160000Z
LOCATION:
SUMMARY:Minifestival om hållbarhet och biologisk mångfald
DESCRIPTION:Under sommaren byggs ett lider på Bobrunna\,  som kommer att f
 ungera som en enkel lokal för utställningar och kurser. För att inviga b
 yggnaden och vår &#8221;Stig för biologisk mångfald&#8221; firar vi med 
 en minifestival den 17 augusti. Den är gratis och alla är välkomna. Vi s
 er verkligen fram emot vår[..]\nhttps://astraken.se/events/minifestival-om
 -hallbarhet-och-biologisk-mangfald/
URL:https://astraken.se/events/minifestival-om-hallbarhet-och-biologisk-mangfald/
END:VEVENT
END:VCALENDAR