BEGIN:VCALENDAR
VERSION:2.0
PRODID:-//eventon.com NONSGML v1.0//EN
CALSCALE:GREGORIAN
METHOD:PUBLISH
BEGIN:VEVENT
UID:69eb8435d1048
DTSTAMP:20260424T145445Z
DTSTART:20240601T090000Z
DTEND:20240601T110000Z
LOCATION:
SUMMARY:Cirkus Traditio
DESCRIPTION:En deckarhistoria med action\,  drama och romantik. En pjäs av
  och med Wattholma Teaterförening. Biljetter via kulturbiljetter.se &#8211
 ; Fri entré\nhttps://astraken.se/events/cirkus-traditio/
URL:https://astraken.se/events/cirkus-traditio/
END:VEVENT
END:VCALENDAR