BEGIN:VCALENDAR
VERSION:2.0
PRODID:-//eventon.com NONSGML v1.0//EN
CALSCALE:GREGORIAN
METHOD:PUBLISH
BEGIN:VEVENT
UID:69eb85f6506e9
DTSTAMP:20260424T150214Z
DTSTART:20240509T100000Z
DTEND:20240509T140000Z
LOCATION:
SUMMARY:Tunnbröd
DESCRIPTION:Torsdagen den 9 maj firar vi tunnbrödets dag (två dagar för 
 tidigt )\,  och vi bakar tunnbröd till försäljning (hårt och mjukt) 
 och naturligtvis kan man äta en tunnbrödklämma Tunnbrödförsäljning &a
 mp; café med tunnbrödklämmor 12 – 16\nhttps://astraken.se/events/tunnb
 rod/
URL:https://astraken.se/events/tunnbrod/
END:VEVENT
END:VCALENDAR