BEGIN:VCALENDAR
VERSION:2.0
PRODID:-//eventon.com NONSGML v1.0//EN
CALSCALE:GREGORIAN
METHOD:PUBLISH
BEGIN:VEVENT
UID:69eb9f8e985cd
DTSTAMP:20260424T165126Z
DTSTART:20240608T153000Z
DTEND:20240608T180000Z
LOCATION:
SUMMARY:Inspirationskväll med Sébastien Boudet
DESCRIPTION:Vi är extra glada över att kunna bjuda in till en inspiration
 skväll med vännen och kollegan Sébastien Boudet lördagen den 8 juni\,  
 kl 17.30 – 20. Sébastien är bagare\,  kock\,  författare och podd-skap
 are i podden ”bryta bröd”\,  där han ger sig in i matsystemets alla h
 örn och vänder på varje[..]\nhttps://astraken.se/events/inspirationskval
 l-med-sebastien-boudet/
URL:https://astraken.se/events/inspirationskvall-med-sebastien-boudet/
END:VEVENT
END:VCALENDAR