BEGIN:VCALENDAR
VERSION:2.0
PRODID:-//eventon.com NONSGML v1.0//EN
CALSCALE:GREGORIAN
METHOD:PUBLISH
BEGIN:VEVENT
UID:69eb83d2687aa
DTSTAMP:20260424T145306Z
DTSTART:20240615T080000Z
DTEND:20240615T130000Z
LOCATION:
SUMMARY:Skyttorpsdan 2024
DESCRIPTION:Boka in Lördag 15 juni 9-15. Då blir det drag med gräv på S
 kyttorps maskinmuseum och mycket annat!\nhttps://astraken.se/events/skyttor
 psdan-2024/
URL:https://astraken.se/events/skyttorpsdan-2024/
END:VEVENT
END:VCALENDAR