BEGIN:VCALENDAR
VERSION:2.0
PRODID:-//eventon.com NONSGML v1.0//EN
CALSCALE:GREGORIAN
METHOD:PUBLISH
BEGIN:VEVENT
UID:69eb84159dd8f
DTSTAMP:20260424T145413Z
DTSTART:20240606T080000Z
DTEND:20240606T140000Z
LOCATION:
SUMMARY:Vendeldagen 2024
DESCRIPTION:Traditionsenligt firande runt om i Vendel-bygden med öppet hus
  på många platser. Ängslyckans café har öppet 10-16.\nhttps://astraken
 .se/events/vendeldagen-2024/
URL:https://astraken.se/events/vendeldagen-2024/
END:VEVENT
END:VCALENDAR