BEGIN:VCALENDAR
VERSION:2.0
PRODID:-//eventon.com NONSGML v1.0//EN
CALSCALE:GREGORIAN
METHOD:PUBLISH
BEGIN:VEVENT
UID:69eb891e332cb
DTSTAMP:20260424T151542Z
DTSTART:20240606T090000Z
DTEND:20240606T130000Z
LOCATION:
SUMMARY:Nationaldagsfirande Disagården
DESCRIPTION:Nationaldagsfirande Disagården\nhttps://astraken.se/events/nat
 ionaldagsfirande-disagarden/
URL:https://astraken.se/events/nationaldagsfirande-disagarden/
END:VEVENT
END:VCALENDAR