BEGIN:VCALENDAR
VERSION:2.0
PRODID:-//eventon.com NONSGML v1.0//EN
CALSCALE:GREGORIAN
METHOD:PUBLISH
BEGIN:VEVENT
UID:69eb9dcdcc0d7
DTSTAMP:20260424T164357Z
DTSTART:20240612T170000Z
DTEND:20240612T190000Z
LOCATION:
SUMMARY:Bilbingo
DESCRIPTION:Bilbingo varje onsdag under sommaren på Änglavallen i Vatthol
 ma. Arrangör: Wattholma IF\nhttps://astraken.se/events/bilbingo-3/
URL:https://astraken.se/events/bilbingo-3/
END:VEVENT
END:VCALENDAR