BEGIN:VCALENDAR
VERSION:2.0
PRODID:-//eventon.com NONSGML v1.0//EN
CALSCALE:GREGORIAN
METHOD:PUBLISH
BEGIN:VEVENT
UID:69eb83cc69a17
DTSTAMP:20260424T145300Z
DTSTART:20240614T090000Z
DTEND:20240616T150000Z
LOCATION:
SUMMARY:Vikingatidsfestival
DESCRIPTION:Vikingatiden kommer till liv i Gamla Uppsala! I år upprepar vi
  förra årets succé med en historisk festival. Under tre dagar kan du få
  en inblick i livet under vikingatiden. Det här vill du inte missa! Viking
 asällskap i tidstypiska kläder besöker Gamla Uppsala och slår läger fr
 amför museet. Det blir[..]\nhttps://astraken.se/events/vikingatidsfestival
 /
URL:https://astraken.se/events/vikingatidsfestival/
END:VEVENT
END:VCALENDAR