BEGIN:VCALENDAR
VERSION:2.0
PRODID:-//eventon.com NONSGML v1.0//EN
CALSCALE:GREGORIAN
METHOD:PUBLISH
BEGIN:VEVENT
UID:69eb9e061b1e7
DTSTAMP:20260424T164454Z
DTSTART:20240524T153000Z
DTEND:20240524T180000Z
LOCATION:
SUMMARY:Liten Bröllopsmässa
DESCRIPTION:Välkomna till oss! Låt inspiration och möjligheter förverkl
 iga dina bröllopsdrömmar. Oavsett om ni planerar ett storslaget bröllop 
 eller en intim ceremoni\,  så kommer vi erbjuda allt som behövs för eran
  stora dag! Detta kan ni förvänta er: •Visning av slottets vackra salar
 . Det kommer finnas möjlighet att utforska slottets eleganta[..]\nhttps://
 astraken.se/events/liten-brollopsmassa/
URL:https://astraken.se/events/liten-brollopsmassa/
END:VEVENT
END:VCALENDAR