BEGIN:VCALENDAR
VERSION:2.0
PRODID:-//eventon.com NONSGML v1.0//EN
CALSCALE:GREGORIAN
METHOD:PUBLISH
BEGIN:VEVENT
UID:69eb86a4dbd29
DTSTAMP:20260424T150508Z
DTSTART:20240901T140000Z
DTEND:20240901T160000Z
LOCATION:
SUMMARY:Uppsala vokalensemble
DESCRIPTION:Uppsala Vokalensemble är en fristående kör med cirka trettio
  sångare. Kören grundades som nationskör år 1964. Under ledning av diri
 gent Håkan Parkman lämnade Uppsala Vokalensemble år 1980 nationslivet\, 
  och kören har sedan dess etablerat sig i toppskiktet av Uppsalas körer m
 ed en strävan att ständigt utvecklas vidare. Uppsala Vokalensemble har[..
 ]\nhttps://astraken.se/events/uppsala-vokalensemble-2/
URL:https://astraken.se/events/uppsala-vokalensemble-2/
END:VEVENT
END:VCALENDAR