BEGIN:VCALENDAR
VERSION:2.0
PRODID:-//eventon.com NONSGML v1.0//EN
CALSCALE:GREGORIAN
METHOD:PUBLISH
BEGIN:VEVENT
UID:69eb9da97a341
DTSTAMP:20260424T164321Z
DTSTART:20240519T140000Z
DTEND:20240519T160000Z
LOCATION:
SUMMARY:Vårkonsert med trio Tell\,  Cederqvist\,  Fors
DESCRIPTION:Martin Tell (piano)\,  Martin Cederqvist (klarinett) och Anja F
 ors (cello) spelar musik av Ludvig van Beethoven och Nino Rota samt nyskriv
 en musik av Ingo Hörlicht. Välkommen till en konsert med ljuva klarinetto
 ner\,  briljanta pianopassager och smäktade cellomelodier. Klarinettisten 
 Martin Cederquist\,  cellisten Anja Fors och pianisten Martin Tell spelar f
 antastisk musik[..]\nhttps://astraken.se/events/varkonsert-med-trio-tell-ce
 derqvist-fors/
URL:https://astraken.se/events/varkonsert-med-trio-tell-cederqvist-fors/
END:VEVENT
END:VCALENDAR