BEGIN:VCALENDAR
VERSION:2.0
PRODID:-//eventon.com NONSGML v1.0//EN
CALSCALE:GREGORIAN
METHOD:PUBLISH
BEGIN:VEVENT
UID:69eb86cd638e0
DTSTAMP:20260424T150549Z
DTSTART:20240509T140000Z
DTEND:20240509T160000Z
LOCATION:
SUMMARY:Konsert - L.T Fisk
DESCRIPTION:L. T. Fisk kommer från Arlöv och är en egensinnig sångfång
 are som under många år sjungit sina sånger till ett stort antal skilda i
 nstrument. L.T. Fisk säger: ”Ty sången är ett moln i vilket vi lånar 
 och delar\,  i vilket vi glömmer och upphöjer allt som blivit sagt och gj
 ort[..]\nhttps://astraken.se/events/konsert-l-t-fisk/
URL:https://astraken.se/events/konsert-l-t-fisk/
END:VEVENT
END:VCALENDAR