BEGIN:VCALENDAR
VERSION:2.0
PRODID:-//eventon.com NONSGML v1.0//EN
CALSCALE:GREGORIAN
METHOD:PUBLISH
BEGIN:VEVENT
UID:69eb83c88927b
DTSTAMP:20260424T145256Z
DTSTART:20240526T090000Z
DTEND:20240526T140000Z
LOCATION:
SUMMARY:Åstråkens dag
DESCRIPTION:På söndag 26 maj är det Åstråkens dag längs åarna norr o
 m Uppsala. Då håller många av våra medlemmar öppet hus. Passa på att 
 ta en tur inom Åstråken och fika\,  handla blommor\,  mat och hantverk. S
 e sevärdheter och njut av den vackra naturen. Det är även morsdag så bj
 ud[..]\nhttps://astraken.se/events/astrakens-dag-2/
URL:https://astraken.se/events/astrakens-dag-2/
END:VEVENT
END:VCALENDAR