BEGIN:VCALENDAR
VERSION:2.0
PRODID:-//eventon.com NONSGML v1.0//EN
CALSCALE:GREGORIAN
METHOD:PUBLISH
BEGIN:VEVENT
UID:69eb9d96e6692
DTSTAMP:20260424T164302Z
DTSTART:20240731T160000Z
DTEND:20240731T180000Z
LOCATION:
SUMMARY:Mästerverk för klarinett och stråkkvartett
DESCRIPTION:Den holländska klarinettsolisten Margreet Houtman och de merit
 erade kammarmusikerna Danial Shariati\,  violin\,  Gustav Inge\,  violin\, 
  Oscar Treitler\,  viola\,  och Josef Alin\,  cello\,  framför Johannes Br
 ahms vackra klarinettkvintett i b-moll och verk av Carl Maria von Weber. M
 er info: https://kulturbiljetter.se/evenemang/6832/m%C3%A4sterverk-f%C3%B6r
 -klarinett-och-str%C3%A5kkvartett/\nhttps://astraken.se/events/masterverk-f
 or-klarinett-och-strakkvartett/
URL:https://astraken.se/events/masterverk-for-klarinett-och-strakkvartett/
END:VEVENT
END:VCALENDAR