BEGIN:VCALENDAR
VERSION:2.0
PRODID:-//eventon.com NONSGML v1.0//EN
CALSCALE:GREGORIAN
METHOD:PUBLISH
BEGIN:VEVENT
UID:69eb884ecf05b
DTSTAMP:20260424T151214Z
DTSTART:20240717T160000Z
DTEND:20240717T180000Z
LOCATION:
SUMMARY:En afton i Orangeriet med en stor pianist
DESCRIPTION:Staffan Scheja den store konsertpianisten\,  professorn och gr
 undaren av Gotland Chamber Music Festival bjuder på en pianoafton med musi
 k bl.a. av Frédéric Chopin och Franz Liszt Mer info och biljetter: https
 ://kulturbiljetter.se/evenemang/6831/en-afton-i-orangeriet-med-staffan-sche
 ja/\nhttps://astraken.se/events/en-afton-i-orangeriet-med-en-stor-pianist/
URL:https://astraken.se/events/en-afton-i-orangeriet-med-en-stor-pianist/
END:VEVENT
END:VCALENDAR