BEGIN:VCALENDAR
VERSION:2.0
PRODID:-//eventon.com NONSGML v1.0//EN
CALSCALE:GREGORIAN
METHOD:PUBLISH
BEGIN:VEVENT
UID:69eba25aaf969
DTSTAMP:20260424T170322Z
DTSTART:20240710T160000Z
DTEND:20240710T180000Z
LOCATION:
SUMMARY:En musikalisk resa i tid och rum
DESCRIPTION:Operasångerskan Kerstin Avemo och pianisten Love Derwinger f
 ramför ett program med musik från olika epoker. En europeisk resa\,  frå
 n Mozart i Österrike till Poulenc i Frankrike\,  som binds ihop på ett 
 fantasifullt sätt. Mer info och biljetter: https://kulturbiljetter.se/even
 emang/6833/en-musikalisk-resa-i-tid-och-rum-med-kerstin-avemo-love-derwinge
 r/\nhttps://astraken.se/events/en-musikalisk-resa-i-tid-och-rum/
URL:https://astraken.se/events/en-musikalisk-resa-i-tid-och-rum/
END:VEVENT
END:VCALENDAR