BEGIN:VCALENDAR
VERSION:2.0
PRODID:-//eventon.com NONSGML v1.0//EN
CALSCALE:GREGORIAN
METHOD:PUBLISH
BEGIN:VEVENT
UID:69eb88ca34827
DTSTAMP:20260424T151418Z
DTSTART:20240621
DTEND:20240622
LOCATION:
SUMMARY:Midsommarfesten i Vattholma
DESCRIPTION:Traditionsenliga midsommarfesten i Vattholma. Två dagar med up
 pträdanden\,  bar och servering\,  Konstnär Christer Carlssons verk stäl
 ls ut i värdshuset\,  lotterier\,  chokladhjul\,  kafé\,  kiosk\,  ballon
 ger\,  popcorn och sockervadd.  Biljetter säljs i entrén eller via Ti
 ckster. PROGRAM Midsommarafton 13.00 Festplats och aktiviteter öppnar 14.0
 0 Midsommarstången kläds och reses 14.10 Årets Trekanting utses 14.30[..
 ]\nhttps://astraken.se/events/midsommarfesten-i-vattholma/
URL:https://astraken.se/events/midsommarfesten-i-vattholma/
END:VEVENT
END:VCALENDAR