BEGIN:VCALENDAR
VERSION:2.0
PRODID:-//eventon.com NONSGML v1.0//EN
CALSCALE:GREGORIAN
METHOD:PUBLISH
BEGIN:VEVENT
UID:69eb97f87316a
DTSTAMP:20260424T161904Z
DTSTART:20240525T090000Z
DTEND:20240525T120000Z
LOCATION:
SUMMARY:Vårmarknad
DESCRIPTION:Vårmarknad utanför tempo. Mer information kommer. Arrangeras 
 av Vattholma i Samverkan\nhttps://astraken.se/events/varmarknad-2/
URL:https://astraken.se/events/varmarknad-2/
END:VEVENT
END:VCALENDAR