BEGIN:VCALENDAR
VERSION:2.0
PRODID:-//eventon.com NONSGML v1.0//EN
CALSCALE:GREGORIAN
METHOD:PUBLISH
BEGIN:VEVENT
UID:69eb83e5ae080
DTSTAMP:20260424T145325Z
DTSTART:20240901T090000Z
DTEND:20240901T140000Z
LOCATION:
SUMMARY:Skördefest & höstmarknad
DESCRIPTION:Söndag 1 september kl.11-16 Skördefest och höstmarknad med 
 Öppet slott. Ingen föranmälan behövs.\nhttps://astraken.se/events/skord
 efest-hostmarknad/
URL:https://astraken.se/events/skordefest-hostmarknad/
END:VEVENT
END:VCALENDAR