BEGIN:VCALENDAR
VERSION:2.0
PRODID:-//eventon.com NONSGML v1.0//EN
CALSCALE:GREGORIAN
METHOD:PUBLISH
BEGIN:VEVENT
UID:69eb868a0d3b7
DTSTAMP:20260424T150442Z
DTSTART:20240902T160000Z
DTEND:20240902T180000Z
LOCATION:
SUMMARY:Teater i slottsträdgården
DESCRIPTION:Tisdag 3 september kl.18 En midsommarnattsdröm. Teater i slot
 tsträdgården. Boka biljett på info@salsta-slott.se\nhttps://astraken.se/
 events/teater-i-slottstradgarden/
URL:https://astraken.se/events/teater-i-slottstradgarden/
END:VEVENT
END:VCALENDAR