BEGIN:VCALENDAR
VERSION:2.0
PRODID:-//eventon.com NONSGML v1.0//EN
CALSCALE:GREGORIAN
METHOD:PUBLISH
BEGIN:VEVENT
UID:69eb8912689c2
DTSTAMP:20260424T151530Z
DTSTART:20240707T160000Z
DTEND:20240707T170000Z
LOCATION:
SUMMARY:Musik i sommarkväll
DESCRIPTION:Niclas Malmberg och Hanna Bendz\nhttps://astraken.se/events/mus
 ik-i-sommarkvall-5/
URL:https://astraken.se/events/musik-i-sommarkvall-5/
END:VEVENT
END:VCALENDAR