BEGIN:VCALENDAR
VERSION:2.0
PRODID:-//eventon.com NONSGML v1.0//EN
CALSCALE:GREGORIAN
METHOD:PUBLISH
BEGIN:VEVENT
UID:69eb866bc387f
DTSTAMP:20260424T150411Z
DTSTART:20241012
DTEND:20241013
LOCATION:
SUMMARY:Utställning - Henning Lemcke\,  trä
DESCRIPTION:I sina objekt experimenterar Henning Lemcke i de föremål som
  omger oss och dess förhållande till oss i frågor som hierarki\,  empati
  och samlevnad. Henning är bosatt och verksam i Uppsala där han även är
  medlem av konsthantverks-kooperativet Kaleido. Mer info: https://www.sadel
 makarlangan.se/utstallningar-2024\nhttps://astraken.se/events/utstallning-h
 enning-lemcke-tra/
URL:https://astraken.se/events/utstallning-henning-lemcke-tra/
END:VEVENT
END:VCALENDAR