BEGIN:VCALENDAR
VERSION:2.0
PRODID:-//eventon.com NONSGML v1.0//EN
CALSCALE:GREGORIAN
METHOD:PUBLISH
BEGIN:VEVENT
UID:69eb9d583752e
DTSTAMP:20260424T164200Z
DTSTART:20240907
DTEND:20240908
LOCATION:
SUMMARY:Utställning - Ebba Stålhandske\,  textil & Gudrun Westerlund\,  måleri
DESCRIPTION:Ebba Stålhandske och Gudrun Westerlund påbörjade ett samarbe
 te under en gemensam vistelse på Island 2021\,  ett konstnärsresidens i A
 kureyri. Inspirationen från landskapet och från konstnärernas olika tek
 niker och uttryckssätt ledde till ett gemensamt improvisationsarbete mella
 n Ebbas broderi och applikation och Gudruns måleri. Samarbetet har alltse
 dan dess fortsatt och utvecklats\,  ett givande och[..]\nhttps://astraken.s
 e/events/utstallning-ebba-stalhandske-textil-gudrun-westerlund-maleri/
URL:https://astraken.se/events/utstallning-ebba-stalhandske-textil-gudrun-westerlund-maleri/
END:VEVENT
END:VCALENDAR