BEGIN:VCALENDAR
VERSION:2.0
PRODID:-//eventon.com NONSGML v1.0//EN
CALSCALE:GREGORIAN
METHOD:PUBLISH
BEGIN:VEVENT
UID:69eb9d5c30679
DTSTAMP:20260424T164204Z
DTSTART:20240803
DTEND:20240804
LOCATION:
SUMMARY:Utställning - Anna Höggren\,  glas & Lena Jerlström\,  textil
DESCRIPTION:I augusti gästas galleriet av Anna Höggren och Lena Jerlströ
 m. Lena arbetar mestadels med textila material i skulpturala uttryck och in
 stallationer som rör sig i gränslandet mellan det figurativa och abstrakt
 a. Anna är glasblåsare och arbetar vanligtvis huvudsakligen med bruksting
  och har ateljé i anslutning till sin bostad och blåser[..]\nhttps://astr
 aken.se/events/utstallning-anna-hoggren-glas-lena-jerlstrom-textil/
URL:https://astraken.se/events/utstallning-anna-hoggren-glas-lena-jerlstrom-textil/
END:VEVENT
END:VCALENDAR