BEGIN:VCALENDAR
VERSION:2.0
PRODID:-//eventon.com NONSGML v1.0//EN
CALSCALE:GREGORIAN
METHOD:PUBLISH
BEGIN:VEVENT
UID:69eb83e7a3580
DTSTAMP:20260424T145327Z
DTSTART:20240504
DTEND:20240505
LOCATION:
SUMMARY:Utställning - Lina Söderberg\,  metall
DESCRIPTION:Lina Söderberg är verksam i Dalsland omgiven av böljande sko
 gslandskap som inverkar på skapandet. Under strövtåg i skogen samlas\,  
 mönster\,  kottar och löv som blir teckningar och svetsat och smitt järn
 . Lina är utbildad på Stenebyskolans konstnärliga utbildning i metallges
 taltning där hon själv nu är verksam som lärare. Mer info:[..]\nhttps:/
 /astraken.se/events/utstallning-lina-soderberg-metall/
URL:https://astraken.se/events/utstallning-lina-soderberg-metall/
END:VEVENT
END:VCALENDAR