BEGIN:VCALENDAR
VERSION:2.0
PRODID:-//eventon.com NONSGML v1.0//EN
CALSCALE:GREGORIAN
METHOD:PUBLISH
BEGIN:VEVENT
UID:69eb8903acb62
DTSTAMP:20260424T151515Z
DTSTART:20240608
DTEND:20240609
LOCATION:
SUMMARY:Utställning Camilla Skorup\,  textil och Eva Skarbäck\,  keramik
DESCRIPTION:juni kommer konstnärskollegorna Eva Skarbäck och Camilla Skor
 up till Sadelmakarlängans galleri. Eva gör brukskeramik och skulptur där
  färg och form samspelar och är bosatt och verksam på Djurö och medlem 
 av konsthantverkskooperativet Blås och Knåda. Camilla Skorups skulpturalt
  formade textil låter materialets karaktär i textur och inneboende ljus o
 ch mörker[..]\nhttps://astraken.se/events/utstallning-camilla-skorup-texti
 l-och-eva-skarback-keramik/
URL:https://astraken.se/events/utstallning-camilla-skorup-textil-och-eva-skarback-keramik/
END:VEVENT
END:VCALENDAR