BEGIN:VCALENDAR
VERSION:2.0
PRODID:-//eventon.com NONSGML v1.0//EN
CALSCALE:GREGORIAN
METHOD:PUBLISH
BEGIN:VEVENT
UID:69eb9cf10a68c
DTSTAMP:20260424T164017Z
DTSTART:20240621
DTEND:20240622
LOCATION:
SUMMARY:Midsommarfirande på stallbacken
DESCRIPTION:Midsommarfirande på stallbacken\nhttps://astraken.se/events/mi
 dsommarfirande-pa-stallbacken/
URL:https://astraken.se/events/midsommarfirande-pa-stallbacken/
END:VEVENT
END:VCALENDAR