BEGIN:VCALENDAR
VERSION:2.0
PRODID:-//eventon.com NONSGML v1.0//EN
CALSCALE:GREGORIAN
METHOD:PUBLISH
BEGIN:VEVENT
UID:69eb86d740b47
DTSTAMP:20260424T150559Z
DTSTART:20240704
DTEND:20240705
LOCATION:
SUMMARY:Opera på Österbybruk
DESCRIPTION:MADAME BUTTERFLY AV GIACOMO PUCCINI Sommaren 2024 sätter vi up
 p vår första Pucciniopera\,  ”Madame Butterfly”. Historien om Cio-Cio
  San (Madame Butterfly) är\,  i tuff konkurrens\,  ett av operahistoriens 
 smärtsammaste och mest medryckande kvinnoöden. Vi ser berättelsen som en
  förvånansvärt modern gestaltning av en kulturkrock mellan väst och ös
 t\,  mellan man[..]\nhttps://astraken.se/events/sommaropera/
URL:https://astraken.se/events/sommaropera/
END:VEVENT
END:VCALENDAR