BEGIN:VCALENDAR
VERSION:2.0
PRODID:-//eventon.com NONSGML v1.0//EN
CALSCALE:GREGORIAN
METHOD:PUBLISH
BEGIN:VEVENT
UID:69eb84221eb96
DTSTAMP:20260424T145426Z
DTSTART:20240615
DTEND:20240616
LOCATION:
SUMMARY:Nyckelharpsstämman
DESCRIPTION:Nyckelharpsstämman\nhttps://astraken.se/events/nyckelharpsstam
 man/
URL:https://astraken.se/events/nyckelharpsstamman/
END:VEVENT
END:VCALENDAR