BEGIN:VCALENDAR
VERSION:2.0
PRODID:-//eventon.com NONSGML v1.0//EN
CALSCALE:GREGORIAN
METHOD:PUBLISH
BEGIN:VEVENT
UID:69eb9d9e26857
DTSTAMP:20260424T164310Z
DTSTART:20240608T170000Z
DTEND:20240608T190000Z
LOCATION:
SUMMARY:Helen SjÃ¶holm\,  Jojje Wadenius och Martin Ã–stergren
DESCRIPTION:Varmt vÃ¤lkomna till en ofÃ¶rglÃ¶mlig kvÃ¤ll pÃ¥ Ã–sterbybruks 
 HerrgÃ¥rd lÃ¶rdagen den 8 juni dÃ¤r ni fÃ¥r uppleva ett musikalisk mÃ¶te me
 d Helen SjÃ¶holm\,  Jojje Wadenius och Martin Ã–stergren. Publiken bjuds pÃ
 ¥ sÃ¥vÃ¤l gammalt som nytt och pÃ¥ allt frÃ¥n visor till pop och musikal. M
 er info &amp; biljetter: https://nortic.se/ticket/event/51180\nhttps://astr
 aken.se/events/helen-sjoholm-jojje-wadenius-och-martin-ostergren/
URL:https://astraken.se/events/helen-sjoholm-jojje-wadenius-och-martin-ostergren/
END:VEVENT
END:VCALENDAR