BEGIN:VCALENDAR
VERSION:2.0
PRODID:-//eventon.com NONSGML v1.0//EN
CALSCALE:GREGORIAN
METHOD:PUBLISH
BEGIN:VEVENT
UID:69eb9d60382cd
DTSTAMP:20260424T164208Z
DTSTART:20240928T080000Z
DTEND:20240928T130000Z
LOCATION:
SUMMARY:Plöjning med veterantraktorer
DESCRIPTION:Vi plöjer med våra veteraner från klockan 10.00 till 15.00 p
 å lördagen den 28 september. Har du ett eget ekipage och vill vara med oc
 h plöja? Starta upp och kom! Kaffe\,  korv och hamburgare finns. Inget int
 räde. Välkomna!\nhttps://astraken.se/events/plojning-med-veterantraktorer
 /
URL:https://astraken.se/events/plojning-med-veterantraktorer/
END:VEVENT
END:VCALENDAR