BEGIN:VCALENDAR
VERSION:2.0
PRODID:-//eventon.com NONSGML v1.0//EN
CALSCALE:GREGORIAN
METHOD:PUBLISH
BEGIN:VEVENT
UID:69eb9d2421b29
DTSTAMP:20260424T164108Z
DTSTART:20240629T080000Z
DTEND:20240629T130000Z
LOCATION:
SUMMARY:Veterantraktordagen
DESCRIPTION:29 juni klockan 10.00 till 15.00 är det dags för veterantrakt
 ordagen. Vid denna aktivitet plockas ett stort antal traktorer ut och demon
 strationsköres med tidstypiska redskap samt övriga aktiviteter som lockar
  och passar hela familjen.\nhttps://astraken.se/events/veterantraktordagen-
 2/
URL:https://astraken.se/events/veterantraktordagen-2/
END:VEVENT
END:VCALENDAR