BEGIN:VCALENDAR
VERSION:2.0
PRODID:-//eventon.com NONSGML v1.0//EN
CALSCALE:GREGORIAN
METHOD:PUBLISH
BEGIN:VEVENT
UID:69eb844807d0c
DTSTAMP:20260424T145504Z
DTSTART:20240427T070000Z
DTEND:20240427T130000Z
LOCATION:
SUMMARY:Veteranmarknaden
DESCRIPTION:Den 27:e april är det dags för Veteranmarknaden\,  här sälj
 s delar till allt motorburet gammalt och även sådant som går under benä
 mningen kuriosa – det är faktiskt allt sorts gamla saker som saluförs
  på marknaden och sedan visar man upp redskap och material som kan tänkas
  användas i den s.k. Hobbyn. Medarrangör till[..]\nhttps://astraken.se/e
 vents/veteranmarknaden-2/
URL:https://astraken.se/events/veteranmarknaden-2/
END:VEVENT
END:VCALENDAR