BEGIN:VCALENDAR
VERSION:2.0
PRODID:-//eventon.com NONSGML v1.0//EN
CALSCALE:GREGORIAN
METHOD:PUBLISH
BEGIN:VEVENT
UID:69eb8437e9808
DTSTAMP:20260424T145447Z
DTSTART:20240509T070000Z
DTEND:20240509T100000Z
LOCATION:
SUMMARY:Yogabrunch
DESCRIPTION:Yogapass ute i slottsträdgården med Yogainstruktör Anna Berg
 ström från TränaNära. Efter passet serveras en välförtjänt ljuvlig b
 runch. Ta gärna med din yogamatta om du har\,  eller meddela vid bokning a
 tt du vill låna. Meddela också eventuell specialkost. Kristi Himmelfärds
 dag 2024 kl. 9\,  boka din plats nedan! Det går också att[..]\nhttps://as
 traken.se/events/yogabrunch/
URL:https://astraken.se/events/yogabrunch/
END:VEVENT
END:VCALENDAR