BEGIN:VCALENDAR
VERSION:2.0
PRODID:-//eventon.com NONSGML v1.0//EN
CALSCALE:GREGORIAN
METHOD:PUBLISH
BEGIN:VEVENT
UID:69eb83c27939b
DTSTAMP:20260424T145250Z
DTSTART:20240301T163000Z
DTEND:20240301T183000Z
LOCATION:
SUMMARY:Ölprovning
DESCRIPTION:Ölprovning tillsammans med Grzegorz Wicher från QMaSH Brewing
   Mer info: https://salstaslottskafe.se/provning/\nhttps://astraken.se/ev
 ents/olprovning/
URL:https://astraken.se/events/olprovning/
END:VEVENT
END:VCALENDAR