BEGIN:VCALENDAR
VERSION:2.0
PRODID:-//eventon.com NONSGML v1.0//EN
CALSCALE:GREGORIAN
METHOD:PUBLISH
BEGIN:VEVENT
UID:69eb835db4858
DTSTAMP:20260424T145109Z
DTSTART:20240227T180000Z
DTEND:20240227T200000Z
LOCATION:
SUMMARY:Årsmöte 2024
DESCRIPTION:VÄLKOMMEN PÅ ÅRSMÖTE DU SOM ÄR MEDLEM I ÅSTRÅKENS TURISM
  FÖRENING. 27 FEBRUARI KL. 19 BAGARSTUGAN I VATTHOLMA BRUK VI BJUDER PÅ S
 EMLOR\nhttps://astraken.se/events/arsmote-2024/
URL:https://astraken.se/events/arsmote-2024/
END:VEVENT
END:VCALENDAR