BEGIN:VCALENDAR
VERSION:2.0
PRODID:-//eventon.com NONSGML v1.0//EN
CALSCALE:GREGORIAN
METHOD:PUBLISH
BEGIN:VEVENT
UID:69eb9daf570ce
DTSTAMP:20260424T164327Z
DTSTART:20240511T080000Z
DTEND:20240511T150000Z
LOCATION:
SUMMARY:Ulva vårmarknad 2024
DESCRIPTION:Välkomna på Ulva Vårmarknad 2024\,  11:e -12:e maj! Lördag 
 kl. 10-17 Söndag kl. 10-16 Länge har vi längtat efter att kunna njuta a
 v den härliga vårsolen\,  entusiastiskt fågelkvitter och att få strosa 
 runt bland en rik samling av hantverksstånd under Ulva Vårmarknad. Här k
 ommer gedigna hantverk och glada röster\,  berikas av[..]\nhttps://astrake
 n.se/events/ulva-varmarknad-2024/
URL:https://astraken.se/events/ulva-varmarknad-2024/
END:VEVENT
END:VCALENDAR