BEGIN:VCALENDAR
VERSION:2.0
PRODID:-//eventon.com NONSGML v1.0//EN
CALSCALE:GREGORIAN
METHOD:PUBLISH
BEGIN:VEVENT
UID:69eb88ba12309
DTSTAMP:20260424T151402Z
DTSTART:20240217
DTEND:20240218
LOCATION:
SUMMARY:Hemskheter & spök Österbybruks herrgård
DESCRIPTION:Bokning och mer info\nhttps://astraken.se/events/hemskheter-spo
 k-osterbybruks-herrgard/
URL:https://astraken.se/events/hemskheter-spok-osterbybruks-herrgard/
END:VEVENT
END:VCALENDAR