BEGIN:VCALENDAR
VERSION:2.0
PRODID:-//eventon.com NONSGML v1.0//EN
CALSCALE:GREGORIAN
METHOD:PUBLISH
BEGIN:VEVENT
UID:69eb892c46654
DTSTAMP:20260424T151556Z
DTSTART:20240210T160000Z
DTEND:20240210T180000Z
LOCATION:
SUMMARY:Mats Bergströms salong med Isabella Lundgren
DESCRIPTION:Kvällens gäst\,  Isabella Lundgren\,  är jazzsångerska med 
 både briljans och en unik intensitet som trollbinder publiken. Detta bjuds
  i fin kombination med Mats Bergström som med sin gitarr både är en flin
 kfingrad solist och finstämd ackompanjatör. Boka här\nhttps://astraken.s
 e/events/mats-bergstroms-salong-med-isabella-lundgren/
URL:https://astraken.se/events/mats-bergstroms-salong-med-isabella-lundgren/
END:VEVENT
END:VCALENDAR