BEGIN:VCALENDAR
VERSION:2.0
PRODID:-//eventon.com NONSGML v1.0//EN
CALSCALE:GREGORIAN
METHOD:PUBLISH
BEGIN:VEVENT
UID:69eb8943c9634
DTSTAMP:20260424T151619Z
DTSTART:20240217
DTEND:20240218
LOCATION:
SUMMARY:Brödbakskurs med fokus på kulturspannmål
DESCRIPTION:På kursen kommer vi att baka surdegsbröd med kulturspannmål\
 ,  laga en spännande måltidsgröt\,  testa tunnbrödbakning med de äldre
  sorterna och mala vårt eget mjöl. Lär dig tänka i nygamla banor hur vi
  kan använda närproducerade\,  ekologiska spannmål på ett hållbart sä
 tt! De äldre sorterna är också snällare mot kroppen om[..]\nhttps://ast
 raken.se/events/brodbakskurs-med-fokus-pa-kulturspannmal/
URL:https://astraken.se/events/brodbakskurs-med-fokus-pa-kulturspannmal/
END:VEVENT
END:VCALENDAR